BEGIN:VCALENDAR
VERSION:2.0
PRODID:-//Vali Cyber - ECPv6.15.20//NONSGML v1.0//EN
CALSCALE:GREGORIAN
METHOD:PUBLISH
X-WR-CALNAME:Vali Cyber
X-ORIGINAL-URL:https://valicyber.com
X-WR-CALDESC:Events for Vali Cyber
REFRESH-INTERVAL;VALUE=DURATION:PT1H
X-Robots-Tag:noindex
X-PUBLISHED-TTL:PT1H
BEGIN:VTIMEZONE
TZID:America/New_York
BEGIN:DAYLIGHT
TZOFFSETFROM:-0500
TZOFFSETTO:-0400
TZNAME:EDT
DTSTART:20240310T070000
END:DAYLIGHT
BEGIN:STANDARD
TZOFFSETFROM:-0400
TZOFFSETTO:-0500
TZNAME:EST
DTSTART:20241103T060000
END:STANDARD
BEGIN:DAYLIGHT
TZOFFSETFROM:-0500
TZOFFSETTO:-0400
TZNAME:EDT
DTSTART:20250309T070000
END:DAYLIGHT
BEGIN:STANDARD
TZOFFSETFROM:-0400
TZOFFSETTO:-0500
TZNAME:EST
DTSTART:20251102T060000
END:STANDARD
BEGIN:DAYLIGHT
TZOFFSETFROM:-0500
TZOFFSETTO:-0400
TZNAME:EDT
DTSTART:20260308T070000
END:DAYLIGHT
BEGIN:STANDARD
TZOFFSETFROM:-0400
TZOFFSETTO:-0500
TZNAME:EST
DTSTART:20261101T060000
END:STANDARD
END:VTIMEZONE
BEGIN:VEVENT
DTSTART;TZID=America/New_York:20251029T110000
DTEND;TZID=America/New_York:20251029T123000
DTSTAMP:20260420T212256
CREATED:20251020T165730Z
LAST-MODIFIED:20251023T163541Z
UID:10000055-1761735600-1761741000@valicyber.com
SUMMARY:Charlotte VMUG Local Chapter Meeting - Virtual Presentation
DESCRIPTION:
URL:https://valicyber.com/event/charlotte-vmug-local-chapter-meeting/
LOCATION:Virtual Event
END:VEVENT
BEGIN:VEVENT
DTSTART;TZID=America/New_York:20251029T170000
DTEND;TZID=America/New_York:20251029T190000
DTSTAMP:20260420T212256
CREATED:20251023T163645Z
LAST-MODIFIED:20251023T163645Z
UID:10000056-1761757200-1761764400@valicyber.com
SUMMARY:Charlotte VMUG Local Chapter Meeting - vBeers
DESCRIPTION:
URL:https://valicyber.com/event/charlotte-vmug-local-chapter-meeting-vbeers/
LOCATION:Brewers at 4001 Yancey\, 4001-A Yancey Rd\, Charlotte\, NC\, 28217\, United States
END:VEVENT
END:VCALENDAR