BEGIN:VCALENDAR
VERSION:2.0
PRODID:-//Vali Cyber - ECPv6.15.20//NONSGML v1.0//EN
CALSCALE:GREGORIAN
METHOD:PUBLISH
X-WR-CALNAME:Vali Cyber
X-ORIGINAL-URL:https://valicyber.com
X-WR-CALDESC:Events for Vali Cyber
REFRESH-INTERVAL;VALUE=DURATION:PT1H
X-Robots-Tag:noindex
X-PUBLISHED-TTL:PT1H
BEGIN:VTIMEZONE
TZID:America/New_York
BEGIN:DAYLIGHT
TZOFFSETFROM:-0500
TZOFFSETTO:-0400
TZNAME:EDT
DTSTART:20240310T070000
END:DAYLIGHT
BEGIN:STANDARD
TZOFFSETFROM:-0400
TZOFFSETTO:-0500
TZNAME:EST
DTSTART:20241103T060000
END:STANDARD
BEGIN:DAYLIGHT
TZOFFSETFROM:-0500
TZOFFSETTO:-0400
TZNAME:EDT
DTSTART:20250309T070000
END:DAYLIGHT
BEGIN:STANDARD
TZOFFSETFROM:-0400
TZOFFSETTO:-0500
TZNAME:EST
DTSTART:20251102T060000
END:STANDARD
BEGIN:DAYLIGHT
TZOFFSETFROM:-0500
TZOFFSETTO:-0400
TZNAME:EDT
DTSTART:20260308T070000
END:DAYLIGHT
BEGIN:STANDARD
TZOFFSETFROM:-0400
TZOFFSETTO:-0500
TZNAME:EST
DTSTART:20261101T060000
END:STANDARD
END:VTIMEZONE
BEGIN:VTIMEZONE
TZID:America/Denver
BEGIN:DAYLIGHT
TZOFFSETFROM:-0700
TZOFFSETTO:-0600
TZNAME:MDT
DTSTART:20240310T090000
END:DAYLIGHT
BEGIN:STANDARD
TZOFFSETFROM:-0600
TZOFFSETTO:-0700
TZNAME:MST
DTSTART:20241103T080000
END:STANDARD
BEGIN:DAYLIGHT
TZOFFSETFROM:-0700
TZOFFSETTO:-0600
TZNAME:MDT
DTSTART:20250309T090000
END:DAYLIGHT
BEGIN:STANDARD
TZOFFSETFROM:-0600
TZOFFSETTO:-0700
TZNAME:MST
DTSTART:20251102T080000
END:STANDARD
BEGIN:DAYLIGHT
TZOFFSETFROM:-0700
TZOFFSETTO:-0600
TZNAME:MDT
DTSTART:20260308T090000
END:DAYLIGHT
BEGIN:STANDARD
TZOFFSETFROM:-0600
TZOFFSETTO:-0700
TZNAME:MST
DTSTART:20261101T080000
END:STANDARD
END:VTIMEZONE
BEGIN:VTIMEZONE
TZID:America/North_Dakota/Center
BEGIN:DAYLIGHT
TZOFFSETFROM:-0600
TZOFFSETTO:-0500
TZNAME:CDT
DTSTART:20240310T080000
END:DAYLIGHT
BEGIN:STANDARD
TZOFFSETFROM:-0500
TZOFFSETTO:-0600
TZNAME:CST
DTSTART:20241103T070000
END:STANDARD
BEGIN:DAYLIGHT
TZOFFSETFROM:-0600
TZOFFSETTO:-0500
TZNAME:CDT
DTSTART:20250309T080000
END:DAYLIGHT
BEGIN:STANDARD
TZOFFSETFROM:-0500
TZOFFSETTO:-0600
TZNAME:CST
DTSTART:20251102T070000
END:STANDARD
BEGIN:DAYLIGHT
TZOFFSETFROM:-0600
TZOFFSETTO:-0500
TZNAME:CDT
DTSTART:20260308T080000
END:DAYLIGHT
BEGIN:STANDARD
TZOFFSETFROM:-0500
TZOFFSETTO:-0600
TZNAME:CST
DTSTART:20261101T070000
END:STANDARD
END:VTIMEZONE
BEGIN:VEVENT
DTSTART;VALUE=DATE:20250609
DTEND;VALUE=DATE:20250612
DTSTAMP:20260423T103221
CREATED:20250505T180540Z
LAST-MODIFIED:20250505T180540Z
UID:10000033-1749427200-1749686399@valicyber.com
SUMMARY:Gartner Security & Risk Management Summit
DESCRIPTION:
URL:https://valicyber.com/event/gartner-security-risk-management-summit/
LOCATION:Gaylord National Resort & Convention Center\, 201 Waterfront Street\, National Harbor\, MD\, 20745\, United States
END:VEVENT
BEGIN:VEVENT
DTSTART;TZID=America/Denver:20250613T093000
DTEND;TZID=America/Denver:20250613T162000
DTSTAMP:20260423T103221
CREATED:20250421T212547Z
LAST-MODIFIED:20250421T212547Z
UID:10000029-1749807000-1749831600@valicyber.com
SUMMARY:BSides Boulder 2025
DESCRIPTION:
URL:https://valicyber.com/event/bsides-boulder-2025/
LOCATION:Wolf Law Building\, 2450 Kittredge Loop Dr\, Boulder\, CO\, 80305
END:VEVENT
BEGIN:VEVENT
DTSTART;TZID=America/North_Dakota/Center:20250624T090000
DTEND;TZID=America/North_Dakota/Center:20250624T170000
DTSTAMP:20260423T103221
CREATED:20250508T210900Z
LAST-MODIFIED:20250508T210900Z
UID:10000036-1750755600-1750784400@valicyber.com
SUMMARY:VMUG June Virtual Event
DESCRIPTION:
URL:https://valicyber.com/event/vmug-june-virtual-event/
LOCATION:Virtual Event
END:VEVENT
END:VCALENDAR