BEGIN:VCALENDAR
VERSION:2.0
PRODID:-//Vali Cyber - ECPv6.15.20//NONSGML v1.0//EN
CALSCALE:GREGORIAN
METHOD:PUBLISH
X-WR-CALNAME:Vali Cyber
X-ORIGINAL-URL:https://valicyber.com
X-WR-CALDESC:Events for Vali Cyber
REFRESH-INTERVAL;VALUE=DURATION:PT1H
X-Robots-Tag:noindex
X-PUBLISHED-TTL:PT1H
BEGIN:VTIMEZONE
TZID:America/Toronto
BEGIN:DAYLIGHT
TZOFFSETFROM:-0500
TZOFFSETTO:-0400
TZNAME:EDT
DTSTART:20240310T070000
END:DAYLIGHT
BEGIN:STANDARD
TZOFFSETFROM:-0400
TZOFFSETTO:-0500
TZNAME:EST
DTSTART:20241103T060000
END:STANDARD
BEGIN:DAYLIGHT
TZOFFSETFROM:-0500
TZOFFSETTO:-0400
TZNAME:EDT
DTSTART:20250309T070000
END:DAYLIGHT
BEGIN:STANDARD
TZOFFSETFROM:-0400
TZOFFSETTO:-0500
TZNAME:EST
DTSTART:20251102T060000
END:STANDARD
BEGIN:DAYLIGHT
TZOFFSETFROM:-0500
TZOFFSETTO:-0400
TZNAME:EDT
DTSTART:20260308T070000
END:DAYLIGHT
BEGIN:STANDARD
TZOFFSETFROM:-0400
TZOFFSETTO:-0500
TZNAME:EST
DTSTART:20261101T060000
END:STANDARD
END:VTIMEZONE
BEGIN:VEVENT
DTSTART;TZID=America/Toronto:20250515T090000
DTEND;TZID=America/Toronto:20250515T164500
DTSTAMP:20260420T084237
CREATED:20250130T201604Z
LAST-MODIFIED:20250401T154917Z
UID:10000024-1747299600-1747327500@valicyber.com
SUMMARY:VMUG Toronto UserCon
DESCRIPTION:
URL:https://valicyber.com/event/vmug-toronto-usercon/
LOCATION:Chelsea Hotel\, 33 Gerrard St W\, Toronto\, Ontario\, M5G 1Z4\, Canada
END:VEVENT
END:VCALENDAR